BEGIN:VCALENDAR
VERSION:2.0
PRODID:-//Greater Minneapolis Intergroup Alcoholics Anonymous - ECPv6.15.20//NONSGML v1.0//EN
CALSCALE:GREGORIAN
METHOD:PUBLISH
X-ORIGINAL-URL:https://aaminneapolis.org
X-WR-CALDESC:Events for Greater Minneapolis Intergroup Alcoholics Anonymous
REFRESH-INTERVAL;VALUE=DURATION:PT1H
X-Robots-Tag:noindex
X-PUBLISHED-TTL:PT1H
BEGIN:VTIMEZONE
TZID:America/Chicago
BEGIN:DAYLIGHT
TZOFFSETFROM:-0600
TZOFFSETTO:-0500
TZNAME:CDT
DTSTART:20220313T080000
END:DAYLIGHT
BEGIN:STANDARD
TZOFFSETFROM:-0500
TZOFFSETTO:-0600
TZNAME:CST
DTSTART:20221106T070000
END:STANDARD
BEGIN:DAYLIGHT
TZOFFSETFROM:-0600
TZOFFSETTO:-0500
TZNAME:CDT
DTSTART:20230312T080000
END:DAYLIGHT
BEGIN:STANDARD
TZOFFSETFROM:-0500
TZOFFSETTO:-0600
TZNAME:CST
DTSTART:20231105T070000
END:STANDARD
BEGIN:DAYLIGHT
TZOFFSETFROM:-0600
TZOFFSETTO:-0500
TZNAME:CDT
DTSTART:20240310T080000
END:DAYLIGHT
BEGIN:STANDARD
TZOFFSETFROM:-0500
TZOFFSETTO:-0600
TZNAME:CST
DTSTART:20241103T070000
END:STANDARD
BEGIN:DAYLIGHT
TZOFFSETFROM:-0600
TZOFFSETTO:-0500
TZNAME:CDT
DTSTART:20250309T080000
END:DAYLIGHT
BEGIN:STANDARD
TZOFFSETFROM:-0500
TZOFFSETTO:-0600
TZNAME:CST
DTSTART:20251102T070000
END:STANDARD
END:VTIMEZONE
BEGIN:VEVENT
DTSTART;TZID=America/Chicago:20240928T173000
DTEND;TZID=America/Chicago:20240928T233000
DTSTAMP:20260424T025443
CREATED:20240730T164811Z
LAST-MODIFIED:20240916T184019Z
UID:10004455-1727544600-1727566200@aaminneapolis.org
SUMMARY:Spooky ValleyPAA
DESCRIPTION:Spooky ValleyPAA Flyer \nClick Here To Register 
URL:https://aaminneapolis.org/event/spooky-valleypaa/
LOCATION:Valleyfair\, 1 Valley Fair Drive Dr\, Shakopee\, MN\, 55379\, United States
CATEGORIES:Special Event
END:VEVENT
BEGIN:VEVENT
DTSTART;TZID=America/Chicago:20230611T103000
DTEND;TZID=America/Chicago:20230611T190000
DTSTAMP:20260424T025443
CREATED:20230515T211031Z
LAST-MODIFIED:20230515T211034Z
UID:10003476-1686479400-1686510000@aaminneapolis.org
SUMMARY:ValleyPAA
DESCRIPTION:ValleyPAA Flyer 
URL:https://aaminneapolis.org/event/valleypaa/
LOCATION:Valleyfair\, 1 Valley Fair Drive Dr\, Shakopee\, MN\, 55379\, United States
CATEGORIES:Special Event
END:VEVENT
END:VCALENDAR