BEGIN:VCALENDAR
VERSION:2.0
PRODID:-//Greater Minneapolis Intergroup Alcoholics Anonymous - ECPv6.15.20//NONSGML v1.0//EN
CALSCALE:GREGORIAN
METHOD:PUBLISH
X-ORIGINAL-URL:https://aaminneapolis.org
X-WR-CALDESC:Events for Greater Minneapolis Intergroup Alcoholics Anonymous
REFRESH-INTERVAL;VALUE=DURATION:PT1H
X-Robots-Tag:noindex
X-PUBLISHED-TTL:PT1H
BEGIN:VTIMEZONE
TZID:America/Chicago
BEGIN:DAYLIGHT
TZOFFSETFROM:-0600
TZOFFSETTO:-0500
TZNAME:CDT
DTSTART:20150308T080000
END:DAYLIGHT
BEGIN:STANDARD
TZOFFSETFROM:-0500
TZOFFSETTO:-0600
TZNAME:CST
DTSTART:20151101T070000
END:STANDARD
BEGIN:DAYLIGHT
TZOFFSETFROM:-0600
TZOFFSETTO:-0500
TZNAME:CDT
DTSTART:20160313T080000
END:DAYLIGHT
BEGIN:STANDARD
TZOFFSETFROM:-0500
TZOFFSETTO:-0600
TZNAME:CST
DTSTART:20161106T070000
END:STANDARD
BEGIN:DAYLIGHT
TZOFFSETFROM:-0600
TZOFFSETTO:-0500
TZNAME:CDT
DTSTART:20170312T080000
END:DAYLIGHT
BEGIN:STANDARD
TZOFFSETFROM:-0500
TZOFFSETTO:-0600
TZNAME:CST
DTSTART:20171105T070000
END:STANDARD
END:VTIMEZONE
BEGIN:VEVENT
DTSTART;TZID=America/Chicago:20160618T090000
DTEND;TZID=America/Chicago:20160618T160000
DTSTAMP:20260423T231355
CREATED:20160520T152541Z
LAST-MODIFIED:20160520T152541Z
UID:10000137-1466240400-1466265600@aaminneapolis.org
SUMMARY:"The Turning Point"
DESCRIPTION:The Turning Point flyer
URL:https://aaminneapolis.org/event/the-turning-point/
LOCATION:Sawmill Inn\, 2301 South Highway 169\, Grand Rapids\, 55744\, United States
CATEGORIES:Workshop
GEO:47.2081102;-93.5302425
X-APPLE-STRUCTURED-LOCATION;VALUE=URI;X-ADDRESS=Sawmill Inn 2301 South Highway 169 Grand Rapids 55744 United States;X-APPLE-RADIUS=500;X-TITLE=2301 South Highway 169:geo:-93.5302425,47.2081102
END:VEVENT
END:VCALENDAR