BEGIN:VCALENDAR
VERSION:2.0
PRODID:-//Greater Minneapolis Intergroup Alcoholics Anonymous - ECPv6.15.20//NONSGML v1.0//EN
CALSCALE:GREGORIAN
METHOD:PUBLISH
X-WR-CALNAME:Greater Minneapolis Intergroup Alcoholics Anonymous
X-ORIGINAL-URL:https://aaminneapolis.org
X-WR-CALDESC:Events for Greater Minneapolis Intergroup Alcoholics Anonymous
REFRESH-INTERVAL;VALUE=DURATION:PT1H
X-Robots-Tag:noindex
X-PUBLISHED-TTL:PT1H
BEGIN:VTIMEZONE
TZID:America/Chicago
BEGIN:DAYLIGHT
TZOFFSETFROM:-0600
TZOFFSETTO:-0500
TZNAME:CDT
DTSTART:20230312T080000
END:DAYLIGHT
BEGIN:STANDARD
TZOFFSETFROM:-0500
TZOFFSETTO:-0600
TZNAME:CST
DTSTART:20231105T070000
END:STANDARD
BEGIN:DAYLIGHT
TZOFFSETFROM:-0600
TZOFFSETTO:-0500
TZNAME:CDT
DTSTART:20240310T080000
END:DAYLIGHT
BEGIN:STANDARD
TZOFFSETFROM:-0500
TZOFFSETTO:-0600
TZNAME:CST
DTSTART:20241103T070000
END:STANDARD
BEGIN:DAYLIGHT
TZOFFSETFROM:-0600
TZOFFSETTO:-0500
TZNAME:CDT
DTSTART:20250309T080000
END:DAYLIGHT
BEGIN:STANDARD
TZOFFSETFROM:-0500
TZOFFSETTO:-0600
TZNAME:CST
DTSTART:20251102T070000
END:STANDARD
BEGIN:DAYLIGHT
TZOFFSETFROM:-0600
TZOFFSETTO:-0500
TZNAME:CDT
DTSTART:20260308T080000
END:DAYLIGHT
BEGIN:STANDARD
TZOFFSETFROM:-0500
TZOFFSETTO:-0600
TZNAME:CST
DTSTART:20261101T070000
END:STANDARD
END:VTIMEZONE
BEGIN:VEVENT
DTSTART;TZID=America/Chicago:20250424T183000
DTEND;TZID=America/Chicago:20250424T203000
DTSTAMP:20260419T095908
CREATED:20250331T155531Z
LAST-MODIFIED:20250331T155531Z
UID:10004689-1745519400-1745526600@aaminneapolis.org
SUMMARY:Spring 2025 Original 4th Step Workshop
DESCRIPTION:Spring 2025 Original 4th Step Workshop Flyer
URL:https://aaminneapolis.org/event/spring-2025-original-4th-step-workshop-2/
LOCATION:Lake Harriet United\, 4901 Chowen Ave So.\, Minneapolis\, 55410\, United States
CATEGORIES:Workshop
END:VEVENT
BEGIN:VEVENT
DTSTART;TZID=America/Chicago:20250417T183000
DTEND;TZID=America/Chicago:20250417T203000
DTSTAMP:20260419T095908
CREATED:20250331T155325Z
LAST-MODIFIED:20250331T155326Z
UID:10004688-1744914600-1744921800@aaminneapolis.org
SUMMARY:Spring 2025 Original 4th Step Workshop
DESCRIPTION:Spring 2025 Original 4th Step Workshop Flyer
URL:https://aaminneapolis.org/event/spring-2025-original-4th-step-workshop/
LOCATION:Lake Harriet United\, 4901 Chowen Ave So.\, Minneapolis\, 55410\, United States
CATEGORIES:Workshop
END:VEVENT
BEGIN:VEVENT
DTSTART;TZID=America/Chicago:20240116T183000
DTEND;TZID=America/Chicago:20240116T203000
DTSTAMP:20260419T095908
CREATED:20231228T231650Z
LAST-MODIFIED:20231228T231651Z
UID:10003975-1705429800-1705437000@aaminneapolis.org
SUMMARY:Original 4th Step Workshop
DESCRIPTION:Original 4th Step Workshop Flyer 
URL:https://aaminneapolis.org/event/original-4th-step-workshop-3/2024-01-16/
LOCATION:Lake Harriet United\, 4901 Chowen Ave So.\, Minneapolis\, 55410\, United States
CATEGORIES:Workshop
END:VEVENT
END:VCALENDAR