BEGIN:VCALENDAR
VERSION:2.0
PRODID:-//Greater Minneapolis Intergroup Alcoholics Anonymous - ECPv6.15.20//NONSGML v1.0//EN
CALSCALE:GREGORIAN
METHOD:PUBLISH
X-ORIGINAL-URL:https://aaminneapolis.org
X-WR-CALDESC:Events for Greater Minneapolis Intergroup Alcoholics Anonymous
REFRESH-INTERVAL;VALUE=DURATION:PT1H
X-Robots-Tag:noindex
X-PUBLISHED-TTL:PT1H
BEGIN:VTIMEZONE
TZID:America/Chicago
BEGIN:DAYLIGHT
TZOFFSETFROM:-0600
TZOFFSETTO:-0500
TZNAME:CDT
DTSTART:20150308T080000
END:DAYLIGHT
BEGIN:STANDARD
TZOFFSETFROM:-0500
TZOFFSETTO:-0600
TZNAME:CST
DTSTART:20151101T070000
END:STANDARD
BEGIN:DAYLIGHT
TZOFFSETFROM:-0600
TZOFFSETTO:-0500
TZNAME:CDT
DTSTART:20160313T080000
END:DAYLIGHT
BEGIN:STANDARD
TZOFFSETFROM:-0500
TZOFFSETTO:-0600
TZNAME:CST
DTSTART:20161106T070000
END:STANDARD
BEGIN:DAYLIGHT
TZOFFSETFROM:-0600
TZOFFSETTO:-0500
TZNAME:CDT
DTSTART:20170312T080000
END:DAYLIGHT
BEGIN:STANDARD
TZOFFSETFROM:-0500
TZOFFSETTO:-0600
TZNAME:CST
DTSTART:20171105T070000
END:STANDARD
BEGIN:DAYLIGHT
TZOFFSETFROM:-0600
TZOFFSETTO:-0500
TZNAME:CDT
DTSTART:20180311T080000
END:DAYLIGHT
BEGIN:STANDARD
TZOFFSETFROM:-0500
TZOFFSETTO:-0600
TZNAME:CST
DTSTART:20181104T070000
END:STANDARD
BEGIN:DAYLIGHT
TZOFFSETFROM:-0600
TZOFFSETTO:-0500
TZNAME:CDT
DTSTART:20190310T080000
END:DAYLIGHT
BEGIN:STANDARD
TZOFFSETFROM:-0500
TZOFFSETTO:-0600
TZNAME:CST
DTSTART:20191103T070000
END:STANDARD
BEGIN:DAYLIGHT
TZOFFSETFROM:-0600
TZOFFSETTO:-0500
TZNAME:CDT
DTSTART:20200308T080000
END:DAYLIGHT
BEGIN:STANDARD
TZOFFSETFROM:-0500
TZOFFSETTO:-0600
TZNAME:CST
DTSTART:20201101T070000
END:STANDARD
BEGIN:DAYLIGHT
TZOFFSETFROM:-0600
TZOFFSETTO:-0500
TZNAME:CDT
DTSTART:20210314T080000
END:DAYLIGHT
BEGIN:STANDARD
TZOFFSETFROM:-0500
TZOFFSETTO:-0600
TZNAME:CST
DTSTART:20211107T070000
END:STANDARD
BEGIN:DAYLIGHT
TZOFFSETFROM:-0600
TZOFFSETTO:-0500
TZNAME:CDT
DTSTART:20220313T080000
END:DAYLIGHT
BEGIN:STANDARD
TZOFFSETFROM:-0500
TZOFFSETTO:-0600
TZNAME:CST
DTSTART:20221106T070000
END:STANDARD
BEGIN:DAYLIGHT
TZOFFSETFROM:-0600
TZOFFSETTO:-0500
TZNAME:CDT
DTSTART:20230312T080000
END:DAYLIGHT
BEGIN:STANDARD
TZOFFSETFROM:-0500
TZOFFSETTO:-0600
TZNAME:CST
DTSTART:20231105T070000
END:STANDARD
BEGIN:DAYLIGHT
TZOFFSETFROM:-0600
TZOFFSETTO:-0500
TZNAME:CDT
DTSTART:20240310T080000
END:DAYLIGHT
BEGIN:STANDARD
TZOFFSETFROM:-0500
TZOFFSETTO:-0600
TZNAME:CST
DTSTART:20241103T070000
END:STANDARD
END:VTIMEZONE
BEGIN:VTIMEZONE
TZID:UTC
BEGIN:STANDARD
TZOFFSETFROM:+0000
TZOFFSETTO:+0000
TZNAME:UTC
DTSTART:20210101T000000
END:STANDARD
END:VTIMEZONE
BEGIN:VEVENT
DTSTART;TZID=America/Chicago:20230101T070000
DTEND;TZID=America/Chicago:20230101T110000
DTSTAMP:20260420T025205
CREATED:20221213T171615Z
LAST-MODIFIED:20221213T172112Z
UID:10003422-1672556400-1672570800@aaminneapolis.org
SUMMARY:ICYPAA Pancake Breakfast
DESCRIPTION:ICYPAA Pancake Breakfast and Service Auction Flyer 
URL:https://aaminneapolis.org/event/icypaa-pancake-breakfast-2/
LOCATION:2218 Alano Society\, 2218 1st Avenue S.\, Minneapolis\, MN\, 55404\, United States
CATEGORIES:Special Event
GEO:44.9600136;-93.2769474
X-APPLE-STRUCTURED-LOCATION;VALUE=URI;X-ADDRESS=2218 Alano Society 2218 1st Avenue S. Minneapolis MN 55404 United States;X-APPLE-RADIUS=500;X-TITLE=2218 1st Avenue S.:geo:-93.2769474,44.9600136
END:VEVENT
BEGIN:VEVENT
DTSTART;TZID=America/Chicago:20221231T200000
DTEND;TZID=America/Chicago:20221231T233000
DTSTAMP:20260420T025205
CREATED:20221212T223350Z
LAST-MODIFIED:20221212T223350Z
UID:10003421-1672516800-1672529400@aaminneapolis.org
SUMMARY:MNYPAA New Years Eve Party
DESCRIPTION:MNYPAA New Years Eve Party Flyer 
URL:https://aaminneapolis.org/event/mnypaa-new-years-eve-party/
LOCATION:2218 Alano Society\, 2218 1st Avenue S.\, Minneapolis\, MN\, 55404\, United States
CATEGORIES:Special Event
GEO:44.9600136;-93.2769474
X-APPLE-STRUCTURED-LOCATION;VALUE=URI;X-ADDRESS=2218 Alano Society 2218 1st Avenue S. Minneapolis MN 55404 United States;X-APPLE-RADIUS=500;X-TITLE=2218 1st Avenue S.:geo:-93.2769474,44.9600136
END:VEVENT
BEGIN:VEVENT
DTSTART;TZID=America/Chicago:20220910T073000
DTEND;TZID=America/Chicago:20220910T213000
DTSTAMP:20260420T025205
CREATED:20220808T165258Z
LAST-MODIFIED:20220808T165258Z
UID:10003382-1662795000-1662845400@aaminneapolis.org
SUMMARY:2218 Pat Cronin Birthday Bash and Bike Run
DESCRIPTION:2218 Pat Cronin Birthday Bash and Bike Run Flyer 
URL:https://aaminneapolis.org/event/2218-pat-cronin-birthday-bash-and-bike-run-2/
LOCATION:2218 Alano Society\, 2218 1st Avenue S.\, Minneapolis\, MN\, 55404\, United States
CATEGORIES:Special Event
GEO:44.9600136;-93.2769474
X-APPLE-STRUCTURED-LOCATION;VALUE=URI;X-ADDRESS=2218 Alano Society 2218 1st Avenue S. Minneapolis MN 55404 United States;X-APPLE-RADIUS=500;X-TITLE=2218 1st Avenue S.:geo:-93.2769474,44.9600136
END:VEVENT
BEGIN:VEVENT
DTSTART;VALUE=DATE:20220625
DTEND;VALUE=DATE:20220626
DTSTAMP:20260420T025205
CREATED:20220418T183621Z
LAST-MODIFIED:20220418T183621Z
UID:10003342-1656115200-1656201599@aaminneapolis.org
SUMMARY:4th Annual 2218 Ride for Recovery
DESCRIPTION:4th Annual 2218 Ride for Recovery Flyer  
URL:https://aaminneapolis.org/event/4th-annual-2218-ride-for-recovery/
LOCATION:2218 Alano Society\, 2218 1st Avenue S.\, Minneapolis\, MN\, 55404\, United States
CATEGORIES:Special Event
GEO:44.9600136;-93.2769474
X-APPLE-STRUCTURED-LOCATION;VALUE=URI;X-ADDRESS=2218 Alano Society 2218 1st Avenue S. Minneapolis MN 55404 United States;X-APPLE-RADIUS=500;X-TITLE=2218 1st Avenue S.:geo:-93.2769474,44.9600136
END:VEVENT
BEGIN:VEVENT
DTSTART;TZID=UTC:20220425T133000
DTEND;TZID=UTC:20220425T170000
DTSTAMP:20260420T025205
CREATED:20220406T211032Z
LAST-MODIFIED:20220406T211032Z
UID:10003316-1650893400-1650906000@aaminneapolis.org
SUMMARY:Beyond Jitters 29th Anniversary
DESCRIPTION:Beyond Jitters 29th Anniversary Flyer 
URL:https://aaminneapolis.org/event/beyond-jitters-29th-anniversary/
LOCATION:2218 Alano Society\, 2218 1st Avenue S.\, Minneapolis\, MN\, 55404\, United States
CATEGORIES:Anniversary Meeting
GEO:44.9600136;-93.2769474
X-APPLE-STRUCTURED-LOCATION;VALUE=URI;X-ADDRESS=2218 Alano Society 2218 1st Avenue S. Minneapolis MN 55404 United States;X-APPLE-RADIUS=500;X-TITLE=2218 1st Avenue S.:geo:-93.2769474,44.9600136
END:VEVENT
BEGIN:VEVENT
DTSTART;TZID=America/Chicago:20210918T073000
DTEND;TZID=America/Chicago:20210918T223000
DTSTAMP:20260420T025205
CREATED:20210609T145258Z
LAST-MODIFIED:20210609T145258Z
UID:10002614-1631950200-1632004200@aaminneapolis.org
SUMMARY:2218 Pat Cronin Birthday Bash And Bike Run
DESCRIPTION:2218 Pat Cronin Bday flyer
URL:https://aaminneapolis.org/event/2218-pat-cronin-birthday-bash-and-bike-run/
LOCATION:2218 Alano Society\, 2218 1st Avenue S.\, Minneapolis\, MN\, 55404\, United States
CATEGORIES:Speaker Meeting,Special Event
GEO:44.9600136;-93.2769474
X-APPLE-STRUCTURED-LOCATION;VALUE=URI;X-ADDRESS=2218 Alano Society 2218 1st Avenue S. Minneapolis MN 55404 United States;X-APPLE-RADIUS=500;X-TITLE=2218 1st Avenue S.:geo:-93.2769474,44.9600136
END:VEVENT
BEGIN:VEVENT
DTSTART;VALUE=DATE:20210626
DTEND;VALUE=DATE:20210627
DTSTAMP:20260420T025205
CREATED:20210419T161654Z
LAST-MODIFIED:20210419T161654Z
UID:10003192-1624665600-1624751999@aaminneapolis.org
SUMMARY:2218 Ride For Recovery 3rd Annual
DESCRIPTION:2218 Ride For Recovery 3rd Annual flyer 
URL:https://aaminneapolis.org/event/2218-ride-for-recovery-3rd-annual/
LOCATION:2218 Alano Society\, 2218 1st Avenue S.\, Minneapolis\, MN\, 55404\, United States
CATEGORIES:Special Event
GEO:44.9600136;-93.2769474
X-APPLE-STRUCTURED-LOCATION;VALUE=URI;X-ADDRESS=2218 Alano Society 2218 1st Avenue S. Minneapolis MN 55404 United States;X-APPLE-RADIUS=500;X-TITLE=2218 1st Avenue S.:geo:-93.2769474,44.9600136
END:VEVENT
BEGIN:VEVENT
DTSTART;TZID=America/Chicago:20210625T190000
DTEND;TZID=America/Chicago:20210625T223000
DTSTAMP:20260420T025205
CREATED:20210524T214351Z
LAST-MODIFIED:20210524T214351Z
UID:10003201-1624647600-1624660200@aaminneapolis.org
SUMMARY:Beyond Jitters AA Recoveroke
DESCRIPTION:Beyond Jitters AA Recoveroke flyer 
URL:https://aaminneapolis.org/event/beyond-jitters-aa-recoveroke/
LOCATION:2218 Alano Society\, 2218 1st Avenue S.\, Minneapolis\, MN\, 55404\, United States
CATEGORIES:Special Event
GEO:44.9600136;-93.2769474
X-APPLE-STRUCTURED-LOCATION;VALUE=URI;X-ADDRESS=2218 Alano Society 2218 1st Avenue S. Minneapolis MN 55404 United States;X-APPLE-RADIUS=500;X-TITLE=2218 1st Avenue S.:geo:-93.2769474,44.9600136
END:VEVENT
BEGIN:VEVENT
DTSTART;TZID=America/Chicago:20200204T190000
DTEND;TZID=America/Chicago:20200204T203000
DTSTAMP:20260420T025205
CREATED:20190821T190214Z
LAST-MODIFIED:20190821T190214Z
UID:10000230-1580842800-1580848200@aaminneapolis.org
SUMMARY:Big Book Study for Women
DESCRIPTION:Big Book Study for Women Flyer
URL:https://aaminneapolis.org/event/big-book-study-for-women/2020-02-04/
LOCATION:2218 Alano Society\, 2218 1st Avenue S.\, Minneapolis\, MN\, 55404\, United States
CATEGORIES:Workshop
GEO:44.9600136;-93.2769474
X-APPLE-STRUCTURED-LOCATION;VALUE=URI;X-ADDRESS=2218 Alano Society 2218 1st Avenue S. Minneapolis MN 55404 United States;X-APPLE-RADIUS=500;X-TITLE=2218 1st Avenue S.:geo:-93.2769474,44.9600136
END:VEVENT
BEGIN:VEVENT
DTSTART;TZID=America/Chicago:20191109T093000
DTEND;TZID=America/Chicago:20191109T110000
DTSTAMP:20260420T025205
CREATED:20191011T143927Z
LAST-MODIFIED:20191011T143927Z
UID:10002695-1573291800-1573297200@aaminneapolis.org
SUMMARY:AA Beginner's Class
DESCRIPTION:2218 AA Beginner’s Class
URL:https://aaminneapolis.org/event/aa-beginners-class/2019-11-09/
LOCATION:2218 Alano Society\, 2218 1st Avenue S.\, Minneapolis\, MN\, 55404\, United States
CATEGORIES:Workshop
GEO:44.9600136;-93.2769474
X-APPLE-STRUCTURED-LOCATION;VALUE=URI;X-ADDRESS=2218 Alano Society 2218 1st Avenue S. Minneapolis MN 55404 United States;X-APPLE-RADIUS=500;X-TITLE=2218 1st Avenue S.:geo:-93.2769474,44.9600136
END:VEVENT
BEGIN:VEVENT
DTSTART;TZID=America/Chicago:20191012T200000
DTEND;TZID=America/Chicago:20191012T230000
DTSTAMP:20260420T025205
CREATED:20191011T143202Z
LAST-MODIFIED:20191011T143202Z
UID:10002692-1570910400-1570921200@aaminneapolis.org
SUMMARY:Addiction\, It's a Drag 2218 Fundraiser
DESCRIPTION:2218 Addiction\, Its a Drag
URL:https://aaminneapolis.org/event/addiction-its-a-drag-2218-fundraiser/
LOCATION:2218 Alano Society\, 2218 1st Avenue S.\, Minneapolis\, MN\, 55404\, United States
CATEGORIES:Special Event
GEO:44.9600136;-93.2769474
X-APPLE-STRUCTURED-LOCATION;VALUE=URI;X-ADDRESS=2218 Alano Society 2218 1st Avenue S. Minneapolis MN 55404 United States;X-APPLE-RADIUS=500;X-TITLE=2218 1st Avenue S.:geo:-93.2769474,44.9600136
END:VEVENT
BEGIN:VEVENT
DTSTART;VALUE=DATE:20190629
DTEND;VALUE=DATE:20190630
DTSTAMP:20260420T025205
CREATED:20190520T164920Z
LAST-MODIFIED:20190520T212027Z
UID:10002641-1561766400-1561852799@aaminneapolis.org
SUMMARY:2218 Ride for Recovery
DESCRIPTION:Ride For Recovery at 2218 Flyer
URL:https://aaminneapolis.org/event/2218-ride-for-recovery/
LOCATION:2218 Alano Society\, 2218 1st Avenue S.\, Minneapolis\, MN\, 55404\, United States
CATEGORIES:Special Event
GEO:44.9600136;-93.2769474
X-APPLE-STRUCTURED-LOCATION;VALUE=URI;X-ADDRESS=2218 Alano Society 2218 1st Avenue S. Minneapolis MN 55404 United States;X-APPLE-RADIUS=500;X-TITLE=2218 1st Avenue S.:geo:-93.2769474,44.9600136
END:VEVENT
BEGIN:VEVENT
DTSTART;TZID=America/Chicago:20190615T170000
DTEND;TZID=America/Chicago:20190615T210000
DTSTAMP:20260420T025205
CREATED:20190410T180949Z
LAST-MODIFIED:20190410T183856Z
UID:10000180-1560618000-1560632400@aaminneapolis.org
SUMMARY:2218 Alano Recovery Matinee
DESCRIPTION:2218 Recovery Matinee Flyer
URL:https://aaminneapolis.org/event/2218-alano-recovery-matinee-5/2019-06-15/
LOCATION:2218 Alano Society\, 2218 1st Avenue S.\, Minneapolis\, MN\, 55404\, United States
GEO:44.9600136;-93.2769474
X-APPLE-STRUCTURED-LOCATION;VALUE=URI;X-ADDRESS=2218 Alano Society 2218 1st Avenue S. Minneapolis MN 55404 United States;X-APPLE-RADIUS=500;X-TITLE=2218 1st Avenue S.:geo:-93.2769474,44.9600136
END:VEVENT
BEGIN:VEVENT
DTSTART;TZID=America/Chicago:20190518T170000
DTEND;TZID=America/Chicago:20190518T210000
DTSTAMP:20260420T025205
CREATED:20190410T184321Z
LAST-MODIFIED:20190410T184321Z
UID:10000181-1558198800-1558213200@aaminneapolis.org
SUMMARY:2218 Alano Recovery Matinee
DESCRIPTION:2218 Recovery MatineeFLyer
URL:https://aaminneapolis.org/event/2218-alano-recovery-matinee/
LOCATION:2218 Alano Society\, 2218 1st Avenue S.\, Minneapolis\, MN\, 55404\, United States
GEO:44.9600136;-93.2769474
X-APPLE-STRUCTURED-LOCATION;VALUE=URI;X-ADDRESS=2218 Alano Society 2218 1st Avenue S. Minneapolis MN 55404 United States;X-APPLE-RADIUS=500;X-TITLE=2218 1st Avenue S.:geo:-93.2769474,44.9600136
END:VEVENT
BEGIN:VEVENT
DTSTART;TZID=America/Chicago:20190420T170000
DTEND;TZID=America/Chicago:20190420T210000
DTSTAMP:20260420T025205
CREATED:20190302T161542Z
LAST-MODIFIED:20190302T161542Z
UID:10000169-1555779600-1555794000@aaminneapolis.org
SUMMARY:2218 Alano Recovery Matinee
DESCRIPTION:2218 Alano Recovery Matinee Flyer
URL:https://aaminneapolis.org/event/2218-alano-recovery-matinee-4/
LOCATION:2218 Alano Society\, 2218 1st Avenue S.\, Minneapolis\, MN\, 55404\, United States
GEO:44.9600136;-93.2769474
X-APPLE-STRUCTURED-LOCATION;VALUE=URI;X-ADDRESS=2218 Alano Society 2218 1st Avenue S. Minneapolis MN 55404 United States;X-APPLE-RADIUS=500;X-TITLE=2218 1st Avenue S.:geo:-93.2769474,44.9600136
END:VEVENT
BEGIN:VEVENT
DTSTART;TZID=America/Chicago:20180602T160000
DTEND;TZID=America/Chicago:20180602T210000
DTSTAMP:20260420T025205
CREATED:20180319T192134Z
LAST-MODIFIED:20180319T192134Z
UID:10000126-1527955200-1527973200@aaminneapolis.org
SUMMARY:2218 Pig Roast
DESCRIPTION:2218 Summer Pig Roast Flyer
URL:https://aaminneapolis.org/event/2218-pig-roast/
LOCATION:2218 Alano Society\, 2218 1st Avenue S.\, Minneapolis\, MN\, 55404\, United States
CATEGORIES:Special Event
GEO:44.9600136;-93.2769474
X-APPLE-STRUCTURED-LOCATION;VALUE=URI;X-ADDRESS=2218 Alano Society 2218 1st Avenue S. Minneapolis MN 55404 United States;X-APPLE-RADIUS=500;X-TITLE=2218 1st Avenue S.:geo:-93.2769474,44.9600136
END:VEVENT
BEGIN:VEVENT
DTSTART;TZID=America/Chicago:20170506T180000
DTEND;TZID=America/Chicago:20170506T180000
DTSTAMP:20260420T025205
CREATED:20170403T180704Z
LAST-MODIFIED:20170403T180952Z
UID:10000071-1494093600-1494093600@aaminneapolis.org
SUMMARY:2218 75th Anniversary Celebration
DESCRIPTION:2218 75th Anniversary flyer
URL:https://aaminneapolis.org/event/2218-75th-anniversary-celebration/
LOCATION:2218 Alano Society\, 2218 1st Avenue S.\, Minneapolis\, MN\, 55404\, United States
CATEGORIES:Anniversary Meeting
GEO:44.9600136;-93.2769474
X-APPLE-STRUCTURED-LOCATION;VALUE=URI;X-ADDRESS=2218 Alano Society 2218 1st Avenue S. Minneapolis MN 55404 United States;X-APPLE-RADIUS=500;X-TITLE=2218 1st Avenue S.:geo:-93.2769474,44.9600136
END:VEVENT
BEGIN:VEVENT
DTSTART;TZID=America/Chicago:20161112T140000
DTEND;TZID=America/Chicago:20161112T160000
DTSTAMP:20260420T025205
CREATED:20161028T164827Z
LAST-MODIFIED:20161028T164827Z
UID:10000161-1478959200-1478966400@aaminneapolis.org
SUMMARY:International Women's Conference Bid Fundraiser
DESCRIPTION:International-Womens-Conference-Bid-flyer
URL:https://aaminneapolis.org/event/international-womens-conference-bid-fundraiser/
LOCATION:2218 Alano Society\, 2218 1st Avenue S.\, Minneapolis\, MN\, 55404\, United States
CATEGORIES:Special Event
GEO:44.9600136;-93.2769474
X-APPLE-STRUCTURED-LOCATION;VALUE=URI;X-ADDRESS=2218 Alano Society 2218 1st Avenue S. Minneapolis MN 55404 United States;X-APPLE-RADIUS=500;X-TITLE=2218 1st Avenue S.:geo:-93.2769474,44.9600136
END:VEVENT
BEGIN:VEVENT
DTSTART;TZID=America/Chicago:20160604T150000
DTEND;TZID=America/Chicago:20160604T150000
DTSTAMP:20260420T025205
CREATED:20160429T215722Z
LAST-MODIFIED:20160429T215918Z
UID:10000113-1465052400-1465052400@aaminneapolis.org
SUMMARY:2218 Annual Pig Roast
DESCRIPTION:2218 Annual Pig Roast flyer
URL:https://aaminneapolis.org/event/2218-annual-pig-roast/
LOCATION:2218 Alano Society\, 2218 1st Avenue S.\, Minneapolis\, MN\, 55404\, United States
CATEGORIES:Special Event
GEO:44.9600136;-93.2769474
X-APPLE-STRUCTURED-LOCATION;VALUE=URI;X-ADDRESS=2218 Alano Society 2218 1st Avenue S. Minneapolis MN 55404 United States;X-APPLE-RADIUS=500;X-TITLE=2218 1st Avenue S.:geo:-93.2769474,44.9600136
END:VEVENT
END:VCALENDAR