BEGIN:VCALENDAR
VERSION:2.0
PRODID:-//Greater Minneapolis Intergroup Alcoholics Anonymous - ECPv6.15.20//NONSGML v1.0//EN
CALSCALE:GREGORIAN
METHOD:PUBLISH
X-WR-CALNAME:Greater Minneapolis Intergroup Alcoholics Anonymous
X-ORIGINAL-URL:https://aaminneapolis.org
X-WR-CALDESC:Events for Greater Minneapolis Intergroup Alcoholics Anonymous
REFRESH-INTERVAL;VALUE=DURATION:PT1H
X-Robots-Tag:noindex
X-PUBLISHED-TTL:PT1H
BEGIN:VTIMEZONE
TZID:America/Chicago
BEGIN:DAYLIGHT
TZOFFSETFROM:-0600
TZOFFSETTO:-0500
TZNAME:CDT
DTSTART:20250309T080000
END:DAYLIGHT
BEGIN:STANDARD
TZOFFSETFROM:-0500
TZOFFSETTO:-0600
TZNAME:CST
DTSTART:20251102T070000
END:STANDARD
BEGIN:DAYLIGHT
TZOFFSETFROM:-0600
TZOFFSETTO:-0500
TZNAME:CDT
DTSTART:20260308T080000
END:DAYLIGHT
BEGIN:STANDARD
TZOFFSETFROM:-0500
TZOFFSETTO:-0600
TZNAME:CST
DTSTART:20261101T070000
END:STANDARD
BEGIN:DAYLIGHT
TZOFFSETFROM:-0600
TZOFFSETTO:-0500
TZNAME:CDT
DTSTART:20270314T080000
END:DAYLIGHT
BEGIN:STANDARD
TZOFFSETFROM:-0500
TZOFFSETTO:-0600
TZNAME:CST
DTSTART:20271107T070000
END:STANDARD
END:VTIMEZONE
BEGIN:VEVENT
DTSTART;TZID=America/Chicago:20260407T180000
DTEND;TZID=America/Chicago:20260407T201500
DTSTAMP:20260420T183308
CREATED:20260317T205444Z
LAST-MODIFIED:20260317T205701Z
UID:10005234-1775584800-1775592900@aaminneapolis.org
SUMMARY:Living Sober 26th Anniversary Speaker Meeting
DESCRIPTION:Potluck Dinner at 6:00pm\, Speaker at 7:15pm. Friends and Family welcome. \nLiving Sober 26th Anniversary Meeting Flyer \n 
URL:https://aaminneapolis.org/event/living-sober-26th-anniversary-speaker-meeting/
LOCATION:15601 Maple Island Rd\, Burnsville\, mn\, 15601 Maple Island Rd.\, Burnsville\, mn
CATEGORIES:Speaker Meeting,Special Event
END:VEVENT
BEGIN:VEVENT
DTSTART;TZID=America/Chicago:20260410T193000
DTEND;TZID=America/Chicago:20260410T203000
DTSTAMP:20260420T183308
CREATED:20251204T212543Z
LAST-MODIFIED:20251204T212543Z
UID:10005159-1775849400-1775853000@aaminneapolis.org
SUMMARY:Three Legacies Open Speaker Meeting
DESCRIPTION:Three Legacies Open Speaker Meetingflyer
URL:https://aaminneapolis.org/event/three-legacies-open-speaker-meeting-20/
LOCATION:Cross of Glory Church\, 4600 Shady Oak Road\, Hopkins\, MN\, 55343\, United States
GEO:44.9201673;-93.4282108
X-APPLE-STRUCTURED-LOCATION;VALUE=URI;X-ADDRESS=Cross of Glory Church 4600 Shady Oak Road Hopkins MN 55343 United States;X-APPLE-RADIUS=500;X-TITLE=4600 Shady Oak Road:geo:-93.4282108,44.9201673
END:VEVENT
BEGIN:VEVENT
DTSTART;TZID=America/Chicago:20260411T090000
DTEND;TZID=America/Chicago:20260411T110000
DTSTAMP:20260420T183308
CREATED:20260325T203553Z
LAST-MODIFIED:20260325T203553Z
UID:10005249-1775898000-1775905200@aaminneapolis.org
SUMMARY:The Original 4th Step Seminar
DESCRIPTION:Original 4th Step Seminar flyer
URL:https://aaminneapolis.org/event/the-original-4th-step-seminar-13/
LOCATION:Richfield United Methodist Church\, 5835 Lyndale Avenue South\, Minneapolis\, MN\, 55419\, United States
GEO:44.8967408;-93.2876466
X-APPLE-STRUCTURED-LOCATION;VALUE=URI;X-ADDRESS=Richfield United Methodist Church 5835 Lyndale Avenue South Minneapolis MN 55419 United States;X-APPLE-RADIUS=500;X-TITLE=5835 Lyndale Avenue South:geo:-93.2876466,44.8967408
END:VEVENT
BEGIN:VEVENT
DTSTART;TZID=America/Chicago:20260411T100000
DTEND;TZID=America/Chicago:20260411T105000
DTSTAMP:20260420T183308
CREATED:20251114T215643Z
LAST-MODIFIED:20251114T215643Z
UID:10004863-1775901600-1775904600@aaminneapolis.org
SUMMARY:A.A. Orientation Meeting
DESCRIPTION:Orientation Meeting Sched Dec 20 2025 to May 30 2026
URL:https://aaminneapolis.org/event/a-a-orientation-meeting-159/
LOCATION:Bethlehem Lutheran Church\, 16023 Minnetonka Blvd\, Minnetonka\, MN\, 55345\, United States
GEO:44.9284173;-93.2888338
X-APPLE-STRUCTURED-LOCATION;VALUE=URI;X-ADDRESS=Bethlehem Lutheran Church 16023 Minnetonka Blvd Minnetonka MN 55345 United States;X-APPLE-RADIUS=500;X-TITLE=16023 Minnetonka Blvd:geo:-93.2888338,44.9284173
END:VEVENT
BEGIN:VEVENT
DTSTART;TZID=America/Chicago:20260411T180000
DTEND;TZID=America/Chicago:20260411T203000
DTSTAMP:20260420T183308
CREATED:20260408T153155Z
LAST-MODIFIED:20260408T153156Z
UID:10005266-1775930400-1775939400@aaminneapolis.org
SUMMARY:Dinner and a Speaker
DESCRIPTION:04 – 2026 Speaker Mtg. Flyer
URL:https://aaminneapolis.org/event/dinner-and-a-speaker-4/
LOCATION:Twin Lake Alano\, 4938 Brooklyn Blvd\, Brooklyn Center\, 55429\, United States
END:VEVENT
BEGIN:VEVENT
DTSTART;TZID=America/Chicago:20260411T180000
DTEND;TZID=America/Chicago:20260411T210000
DTSTAMP:20260420T183308
CREATED:20250418T155445Z
LAST-MODIFIED:20250418T155445Z
UID:10004704-1775930400-1775941200@aaminneapolis.org
SUMMARY:An Open Potluck A.A. Speaker Meeting
DESCRIPTION:Monticello Alano Speaker Potluck flyer
URL:https://aaminneapolis.org/event/an-open-potluck-a-a-speaker-meeting-10/2026-04-11/
LOCATION:Monticello Alano\, 2025 W River St\, Monticello\, 55362\, United States
GEO:45.320953;-93.837149
X-APPLE-STRUCTURED-LOCATION;VALUE=URI;X-ADDRESS=Monticello Alano 2025 W River St Monticello 55362 United States;X-APPLE-RADIUS=500;X-TITLE=2025 W River St:geo:-93.837149,45.320953
END:VEVENT
BEGIN:VEVENT
DTSTART;TZID=America/Chicago:20260411T183000
DTEND;TZID=America/Chicago:20260411T235900
DTSTAMP:20260420T183308
CREATED:20260105T184534Z
LAST-MODIFIED:20260317T212652Z
UID:10005215-1775932200-1775951940@aaminneapolis.org
SUMMARY:43rd Annual Gratitude Night Sobriety Under the Stars
DESCRIPTION:Gratitude Night 2026 flyer\nClick Here to Purchase Tickets Online\n   \n  \n  \n 
URL:https://aaminneapolis.org/event/43rd-annual-gratitude-night/
LOCATION:Minneapolis Convention Center\, 1301 Second Ave South\, Minneapolis\, MN\, 55403\, United States
GEO:44.96922;-93.273994
X-APPLE-STRUCTURED-LOCATION;VALUE=URI;X-ADDRESS=Minneapolis Convention Center 1301 Second Ave South Minneapolis MN 55403 United States;X-APPLE-RADIUS=500;X-TITLE=1301 Second Ave South:geo:-93.273994,44.96922
END:VEVENT
BEGIN:VEVENT
DTSTART;TZID=America/Chicago:20260411T193000
DTEND;TZID=America/Chicago:20260411T203000
DTSTAMP:20260420T183308
CREATED:20260330T180716Z
LAST-MODIFIED:20260330T180716Z
UID:10005254-1775935800-1775939400@aaminneapolis.org
SUMMARY:SNL Speaker Meeting
DESCRIPTION:SNL Speaker List Flyer 5.30.2026
URL:https://aaminneapolis.org/event/snl-speaker-meeting-45/
LOCATION:Basilica School-Meets on 3rd Floor\, 16th & Hennepin\, Minneapolis Downtown\, 55403\, United States
GEO:44.9726391;-93.2855598
X-APPLE-STRUCTURED-LOCATION;VALUE=URI;X-ADDRESS=Basilica School-Meets on 3rd Floor 16th & Hennepin Minneapolis Downtown 55403 United States;X-APPLE-RADIUS=500;X-TITLE=16th & Hennepin:geo:-93.2855598,44.9726391
END:VEVENT
BEGIN:VEVENT
DTSTART;TZID=America/Chicago:20260412T170000
DTEND;TZID=America/Chicago:20260412T180000
DTSTAMP:20260420T183308
CREATED:20260324T185606Z
LAST-MODIFIED:20260324T185606Z
UID:10005243-1776013200-1776016800@aaminneapolis.org
SUMMARY:Back To Basics Workshop
DESCRIPTION:Join us for a Back To Basics Workshop series at Suburban North Alano! This is a four-part weekly workshop series starting April 12th going through May 3rd. \nBack To Basics Workshop 2026
URL:https://aaminneapolis.org/event/back-to-basics-workshop/
LOCATION:Suburban North Alano\, 15486 Territorial Rd\, Maple Grove\, 55369\, United States
CATEGORIES:Men and Women,Workshop
GEO:45.1478947;-93.4768551
X-APPLE-STRUCTURED-LOCATION;VALUE=URI;X-ADDRESS=Suburban North Alano 15486 Territorial Rd Maple Grove 55369 United States;X-APPLE-RADIUS=500;X-TITLE=15486 Territorial Rd:geo:-93.4768551,45.1478947
END:VEVENT
END:VCALENDAR