BEGIN:VCALENDAR
VERSION:2.0
PRODID:-//Greater Minneapolis Intergroup Alcoholics Anonymous - ECPv6.15.20//NONSGML v1.0//EN
CALSCALE:GREGORIAN
METHOD:PUBLISH
X-WR-CALNAME:Greater Minneapolis Intergroup Alcoholics Anonymous
X-ORIGINAL-URL:https://aaminneapolis.org
X-WR-CALDESC:Events for Greater Minneapolis Intergroup Alcoholics Anonymous
REFRESH-INTERVAL;VALUE=DURATION:PT1H
X-Robots-Tag:noindex
X-PUBLISHED-TTL:PT1H
BEGIN:VTIMEZONE
TZID:America/Chicago
BEGIN:DAYLIGHT
TZOFFSETFROM:-0600
TZOFFSETTO:-0500
TZNAME:CDT
DTSTART:20190310T080000
END:DAYLIGHT
BEGIN:STANDARD
TZOFFSETFROM:-0500
TZOFFSETTO:-0600
TZNAME:CST
DTSTART:20191103T070000
END:STANDARD
BEGIN:DAYLIGHT
TZOFFSETFROM:-0600
TZOFFSETTO:-0500
TZNAME:CDT
DTSTART:20200308T080000
END:DAYLIGHT
BEGIN:STANDARD
TZOFFSETFROM:-0500
TZOFFSETTO:-0600
TZNAME:CST
DTSTART:20201101T070000
END:STANDARD
BEGIN:DAYLIGHT
TZOFFSETFROM:-0600
TZOFFSETTO:-0500
TZNAME:CDT
DTSTART:20210314T080000
END:DAYLIGHT
BEGIN:STANDARD
TZOFFSETFROM:-0500
TZOFFSETTO:-0600
TZNAME:CST
DTSTART:20211107T070000
END:STANDARD
END:VTIMEZONE
BEGIN:VEVENT
DTSTART;TZID=America/Chicago:20200811T080000
DTEND;TZID=America/Chicago:20200811T170000
DTSTAMP:20260420T112630
CREATED:20200811T155142Z
LAST-MODIFIED:20200811T155142Z
UID:10002991-1597132800-1597165200@aaminneapolis.org
SUMMARY:Staying Connected and Carrying the Message
DESCRIPTION:Staying Connected and Carrying the Message flyer \nClick Here To Join  Password: Connection
URL:https://aaminneapolis.org/event/staying-connected-and-carrying-the-message/
LOCATION:MN
END:VEVENT
BEGIN:VEVENT
DTSTART;TZID=America/Chicago:20200811T130000
DTEND;TZID=America/Chicago:20200811T170000
DTSTAMP:20260420T112630
CREATED:20200615T201702Z
LAST-MODIFIED:20200821T164234Z
UID:10002468-1597150800-1597165200@aaminneapolis.org
SUMMARY:Principles Before Personalities
DESCRIPTION:Principles Before Personalities Revised flyer \n 
URL:https://aaminneapolis.org/event/principals-before-personalities/2020-08-11/
LOCATION:MN
CATEGORIES:Workshop
END:VEVENT
BEGIN:VEVENT
DTSTART;VALUE=DATE:20200814
DTEND;VALUE=DATE:20200817
DTSTAMP:20260420T112630
CREATED:20200724T191153Z
LAST-MODIFIED:20200724T191153Z
UID:10002983-1597363200-1597622399@aaminneapolis.org
SUMMARY:43rd Cornhusker Roundup 2020
DESCRIPTION:43rd Cornhusker Roundup 2020 flyer
URL:https://aaminneapolis.org/event/43rd-cornhusker-roundup-2020/
LOCATION:MN
CATEGORIES:Roundup,Special Event
END:VEVENT
BEGIN:VEVENT
DTSTART;TZID=America/Chicago:20200814T190000
DTEND;TZID=America/Chicago:20200814T200000
DTSTAMP:20260420T112630
CREATED:20200708T202044Z
LAST-MODIFIED:20200708T202044Z
UID:10002953-1597431600-1597435200@aaminneapolis.org
SUMMARY:More About General Service\, Traditions and Concepts
DESCRIPTION:More About General Service\, Traditions and Concepts flyer
URL:https://aaminneapolis.org/event/more-about-general-service-traditions-and-concepts/2020-08-14/
LOCATION:MN
CATEGORIES:Special Event
END:VEVENT
BEGIN:VEVENT
DTSTART;TZID=America/Chicago:20200814T193000
DTEND;TZID=America/Chicago:20200814T193000
DTSTAMP:20260420T112630
CREATED:20200714T201418Z
LAST-MODIFIED:20200722T170503Z
UID:10002969-1597433400-1597433400@aaminneapolis.org
SUMMARY:Three Legacies Open Speaker Meeting
DESCRIPTION:Three Legacies Open Speaker Meeting flyer  \nClick here for Zoom link 
URL:https://aaminneapolis.org/event/three-legacies-open-speaker-meeting/2020-08-14/
LOCATION:MN
CATEGORIES:Special Event
END:VEVENT
BEGIN:VEVENT
DTSTART;TZID=America/Chicago:20200815T110000
DTEND;TZID=America/Chicago:20200815T120000
DTSTAMP:20260420T112630
CREATED:20200723T213135Z
LAST-MODIFIED:20200723T213135Z
UID:10002979-1597489200-1597492800@aaminneapolis.org
SUMMARY:How It Works Workshop Series
DESCRIPTION:How It Works Workshop Series flyers 
URL:https://aaminneapolis.org/event/how-it-works-workshop-series/2020-08-15/
LOCATION:MN
CATEGORIES:Special Event
END:VEVENT
BEGIN:VEVENT
DTSTART;TZID=America/Chicago:20200815T200000
DTEND;TZID=America/Chicago:20200815T213000
DTSTAMP:20260420T112630
CREATED:20200605T144032Z
LAST-MODIFIED:20200605T144032Z
UID:10002449-1597521600-1597527000@aaminneapolis.org
SUMMARY:Down Under Speaker Series
DESCRIPTION:Down Under Speaker Series flyer 
URL:https://aaminneapolis.org/event/down-under-speaker-series/2020-08-15/
LOCATION:MN
CATEGORIES:Special Event
END:VEVENT
BEGIN:VEVENT
DTSTART;TZID=America/Chicago:20200816T170000
DTEND;TZID=America/Chicago:20200816T180000
DTSTAMP:20260420T112630
CREATED:20200629T165120Z
LAST-MODIFIED:20200629T165120Z
UID:10002494-1597597200-1597600800@aaminneapolis.org
SUMMARY:Traditions and Concepts Meeting
DESCRIPTION:Traditions and Concepts Meeting flyer 
URL:https://aaminneapolis.org/event/traditions-and-concepts-meeting/2020-08-16/
LOCATION:MN
CATEGORIES:Special Event
END:VEVENT
BEGIN:VEVENT
DTSTART;TZID=America/Chicago:20200816T200000
DTEND;TZID=America/Chicago:20200816T213000
DTSTAMP:20260420T112630
CREATED:20200605T144032Z
LAST-MODIFIED:20200605T144032Z
UID:10002450-1597608000-1597613400@aaminneapolis.org
SUMMARY:Down Under Speaker Series
DESCRIPTION:Down Under Speaker Series flyer 
URL:https://aaminneapolis.org/event/down-under-speaker-series/2020-08-16/
LOCATION:MN
CATEGORIES:Special Event
END:VEVENT
END:VCALENDAR