BEGIN:VCALENDAR
VERSION:2.0
PRODID:-//Greater Minneapolis Intergroup Alcoholics Anonymous - ECPv6.15.20//NONSGML v1.0//EN
CALSCALE:GREGORIAN
METHOD:PUBLISH
X-WR-CALNAME:Greater Minneapolis Intergroup Alcoholics Anonymous
X-ORIGINAL-URL:https://aaminneapolis.org
X-WR-CALDESC:Events for Greater Minneapolis Intergroup Alcoholics Anonymous
REFRESH-INTERVAL;VALUE=DURATION:PT1H
X-Robots-Tag:noindex
X-PUBLISHED-TTL:PT1H
BEGIN:VTIMEZONE
TZID:America/Chicago
BEGIN:DAYLIGHT
TZOFFSETFROM:-0600
TZOFFSETTO:-0500
TZNAME:CDT
DTSTART:20150308T080000
END:DAYLIGHT
BEGIN:STANDARD
TZOFFSETFROM:-0500
TZOFFSETTO:-0600
TZNAME:CST
DTSTART:20151101T070000
END:STANDARD
BEGIN:DAYLIGHT
TZOFFSETFROM:-0600
TZOFFSETTO:-0500
TZNAME:CDT
DTSTART:20160313T080000
END:DAYLIGHT
BEGIN:STANDARD
TZOFFSETFROM:-0500
TZOFFSETTO:-0600
TZNAME:CST
DTSTART:20161106T070000
END:STANDARD
BEGIN:DAYLIGHT
TZOFFSETFROM:-0600
TZOFFSETTO:-0500
TZNAME:CDT
DTSTART:20170312T080000
END:DAYLIGHT
BEGIN:STANDARD
TZOFFSETFROM:-0500
TZOFFSETTO:-0600
TZNAME:CST
DTSTART:20171105T070000
END:STANDARD
END:VTIMEZONE
BEGIN:VEVENT
DTSTART;TZID=America/Chicago:20160601T180000
DTEND;TZID=America/Chicago:20160601T200000
DTSTAMP:20260420T065623
CREATED:20160509T150443Z
LAST-MODIFIED:20160509T150443Z
UID:10000116-1464804000-1464811200@aaminneapolis.org
SUMMARY:Continuous Action Group 2nd Anniversary Potluck
DESCRIPTION:Continuous Action 2nd Anniversary flyer
URL:https://aaminneapolis.org/event/continuous-action-group-2nd-anniversary-potluck/
LOCATION:Bethel Lutheran Church\, 1321 North Avenue\, Northfield\, MN\, 55057\, United States
GEO:44.4707602;-93.1797933
X-APPLE-STRUCTURED-LOCATION;VALUE=URI;X-ADDRESS=Bethel Lutheran Church 1321 North Avenue Northfield MN 55057 United States;X-APPLE-RADIUS=500;X-TITLE=1321 North Avenue:geo:-93.1797933,44.4707602
END:VEVENT
BEGIN:VEVENT
DTSTART;TZID=America/Chicago:20160604T150000
DTEND;TZID=America/Chicago:20160604T150000
DTSTAMP:20260420T065623
CREATED:20160429T215722Z
LAST-MODIFIED:20160429T215918Z
UID:10000113-1465052400-1465052400@aaminneapolis.org
SUMMARY:2218 Annual Pig Roast
DESCRIPTION:2218 Annual Pig Roast flyer
URL:https://aaminneapolis.org/event/2218-annual-pig-roast/
LOCATION:2218 Alano Society\, 2218 1st Avenue S.\, Minneapolis\, MN\, 55404\, United States
CATEGORIES:Special Event
GEO:44.9600136;-93.2769474
X-APPLE-STRUCTURED-LOCATION;VALUE=URI;X-ADDRESS=2218 Alano Society 2218 1st Avenue S. Minneapolis MN 55404 United States;X-APPLE-RADIUS=500;X-TITLE=2218 1st Avenue S.:geo:-93.2769474,44.9600136
END:VEVENT
END:VCALENDAR